BEGIN:VCALENDAR
VERSION:2.0
PRODID:-//MSE GSAG - ECPv6.0.9//NONSGML v1.0//EN
CALSCALE:GREGORIAN
METHOD:PUBLISH
X-ORIGINAL-URL:https://gsag.mse.gatech.edu
X-WR-CALDESC:Events for MSE GSAG
REFRESH-INTERVAL;VALUE=DURATION:PT1H
X-Robots-Tag:noindex
X-PUBLISHED-TTL:PT1H
BEGIN:VTIMEZONE
TZID:America/New_York
BEGIN:DAYLIGHT
TZOFFSETFROM:-0500
TZOFFSETTO:-0400
TZNAME:EDT
DTSTART:20220313T070000
END:DAYLIGHT
BEGIN:STANDARD
TZOFFSETFROM:-0400
TZOFFSETTO:-0500
TZNAME:EST
DTSTART:20221106T060000
END:STANDARD
END:VTIMEZONE
BEGIN:VEVENT
DTSTART;TZID=America/New_York:20220324T170000
DTEND;TZID=America/New_York:20220324T180000
DTSTAMP:20260423T185700
CREATED:20220317T132931Z
LAST-MODIFIED:20220317T132931Z
UID:548-1648141200-1648144800@gsag.mse.gatech.edu
SUMMARY:GSAG Spring Town Hall
DESCRIPTION:GSAG will be hosting a town hall nest Thursday\, March 24th at 5PM in MRDC 3515. Pizza and drinks will be served to all that come! \nWe will be discussing the results of the survey and looking for in-person feedback. In case you cannot attend\, we will also be sending out slides to the graduate student population after the meeting. \n  \nConsequently\, we ask that you please fill out the survey by 23rd March to have your results included in the town hall data. \n\nYour responses are how we build our case for improvement on issues such as stipend\, graduate curriculum\, and more. We need a lot of responses to lend credibility to our data. Please help us to do this by filling out the survey and encouraging your friends to do so as well. \n  \nFill it out by clicking the link here: Spring 2022 GSAG Survey!
URL:https://gsag.mse.gatech.edu/event/gsag-spring-town-hall/
LOCATION:MRDC 3515
END:VEVENT
BEGIN:VEVENT
DTSTART;TZID=America/New_York:20220427T150000
DTEND;TZID=America/New_York:20220427T170000
DTSTAMP:20260423T185700
CREATED:20220421T145911Z
LAST-MODIFIED:20220421T145911Z
UID:553-1651071600-1651078800@gsag.mse.gatech.edu
SUMMARY:Tie-Dye Social
DESCRIPTION:WiMSE and GSAG are teaming up to have another Tie-Dye Social this year\, and we would like to formally invite you to attend! The event will be on April 27th (Reading Day)\, from 3:00-5:00pm on the lawn between MRDC and Love. We will have several items for you to tie dye (including shirts\, masks\, and totes)\, and you are also welcome to bring your own items you may wish to tie dye. There will also be Chipotle burritos for everyone in attendance! Please RSVP here to ensure we have enough food and shirts for everyone. We would love to see you come join us for a study break and to celebrate the end of the semester! \n  \nWhat? Tie-Dye social with Chipotle catering \nWhen? April 27th from 3-5pm \nWhere? Outside on the lawn between MRDC and Love \nWho? Put on by WiMSE and GSAG \nRSVP: https://docs.google.com/forms/d/1yK4ydnlrtcLLl8di53S_IVq6HT-LuCAlM_ke82QWCbE/viewform?edit_requested=true \n 
URL:https://gsag.mse.gatech.edu/event/tie-dye-social/
LOCATION:Love/MRDC Lawn
END:VEVENT
END:VCALENDAR